BEGIN:VCALENDAR
VERSION:2.0
PRODID:icalendar-ruby
CALSCALE:GREGORIAN
METHOD:PUBLISH
BEGIN:VEVENT
DTSTAMP:20260423T041348Z
UID:10-232249@thehillumc.org
DTSTART:20260927T173000Z
DTEND:20260927T173000Z
CLASS:PUBLIC
CREATED:20260422T200723
DESCRIPTION:
LAST-MODIFIED:20260422T200723
LOCATION:Sanctuary
SUMMARY:Sunday Worship
URL;VALUE=URI:https://www.thehillumc.org/events/sunday-worship--10/2026-09-
 27
END:VEVENT
END:VCALENDAR
