BEGIN:VCALENDAR
VERSION:2.0
PRODID:icalendar-ruby
CALSCALE:GREGORIAN
METHOD:PUBLISH
BEGIN:VEVENT
DTSTAMP:20260423T024009Z
UID:10-232195@thehillumc.org
DTSTART:20260920T173000Z
DTEND:20260920T173000Z
CLASS:PUBLIC
CREATED:20260422T171305
DESCRIPTION:
LAST-MODIFIED:20260422T171305
LOCATION:Sanctuary
SUMMARY:Sunday Worship
URL;VALUE=URI:https://www.thehillumc.org/events/sunday-worship--10/2026-09-
 20
END:VEVENT
END:VCALENDAR
