BEGIN:VCALENDAR
VERSION:2.0
PRODID:icalendar-ruby
CALSCALE:GREGORIAN
METHOD:PUBLISH
BEGIN:VEVENT
DTSTAMP:20260422T233329Z
UID:10-232140@thehillumc.org
DTSTART:20260906T173000Z
DTEND:20260906T173000Z
CLASS:PUBLIC
CREATED:20260422T142132
DESCRIPTION:
LAST-MODIFIED:20260422T142132
LOCATION:Sanctuary
SUMMARY:Sunday Worship
URL;VALUE=URI:https://www.thehillumc.org/events/sunday-worship--10/2026-09-
 06
END:VEVENT
END:VCALENDAR
