BEGIN:VCALENDAR
VERSION:2.0
PRODID:icalendar-ruby
CALSCALE:GREGORIAN
METHOD:PUBLISH
BEGIN:VEVENT
DTSTAMP:20260422T202016Z
UID:10-232085@thehillumc.org
DTSTART:20260823T173000Z
DTEND:20260823T173000Z
CLASS:PUBLIC
CREATED:20260422T112609
DESCRIPTION:
LAST-MODIFIED:20260422T112609
LOCATION:Sanctuary
SUMMARY:Sunday Worship
URL;VALUE=URI:https://www.thehillumc.org/events/sunday-worship--10/2026-08-
 23
END:VEVENT
END:VCALENDAR
