BEGIN:VCALENDAR
VERSION:2.0
PRODID:icalendar-ruby
CALSCALE:GREGORIAN
METHOD:PUBLISH
BEGIN:VEVENT
DTSTAMP:20260422T114601Z
UID:10-231921@thehillumc.org
DTSTART:20260719T173000Z
DTEND:20260719T173000Z
CLASS:PUBLIC
CREATED:20260421T182836
DESCRIPTION:
LAST-MODIFIED:20260421T182836
LOCATION:Sanctuary
SUMMARY:Sunday Worship
URL;VALUE=URI:https://www.thehillumc.org/events/sunday-worship--10/2026-07-
 19
END:VEVENT
END:VCALENDAR
