BEGIN:VCALENDAR
VERSION:2.0
PRODID:icalendar-ruby
CALSCALE:GREGORIAN
METHOD:PUBLISH
BEGIN:VEVENT
DTSTAMP:20260420T010253Z
UID:10-231173@thehillumc.org
DTSTART:20260607T173000Z
DTEND:20260607T173000Z
CLASS:PUBLIC
CREATED:20260419T172633
DESCRIPTION:
LAST-MODIFIED:20260419T172633
LOCATION:Sanctuary
SUMMARY:Sunday Worship
URL;VALUE=URI:https://www.thehillumc.org/events/sunday-worship--10/2026-06-
 07
END:VEVENT
END:VCALENDAR
