BEGIN:VCALENDAR
VERSION:2.0
PRODID:icalendar-ruby
CALSCALE:GREGORIAN
METHOD:PUBLISH
BEGIN:VEVENT
DTSTAMP:20260419T212514Z
UID:10-231118@thehillumc.org
DTSTART:20260524T173000Z
DTEND:20260524T173000Z
CLASS:PUBLIC
CREATED:20260419T134428
DESCRIPTION:
LAST-MODIFIED:20260419T134428
LOCATION:Sanctuary
SUMMARY:Sunday Worship
URL;VALUE=URI:https://www.thehillumc.org/events/sunday-worship--10/2026-05-
 24
END:VEVENT
END:VCALENDAR
