BEGIN:VCALENDAR
VERSION:2.0
PRODID:icalendar-ruby
CALSCALE:GREGORIAN
METHOD:PUBLISH
BEGIN:VEVENT
DTSTAMP:20260419T192500Z
UID:10-231065@thehillumc.org
DTSTART:20260517T173000Z
DTEND:20260517T173000Z
CLASS:PUBLIC
CREATED:20260419T100211
DESCRIPTION:
LAST-MODIFIED:20260419T100211
LOCATION:Sanctuary
SUMMARY:Sunday Worship
URL;VALUE=URI:https://www.thehillumc.org/events/sunday-worship--10/2026-05-
 17
END:VEVENT
END:VCALENDAR
