BEGIN:VCALENDAR
VERSION:2.0
PRODID:icalendar-ruby
CALSCALE:GREGORIAN
METHOD:PUBLISH
BEGIN:VEVENT
DTSTAMP:20260419T153247Z
UID:10-231011@thehillumc.org
DTSTART:20260503T173000Z
DTEND:20260503T173000Z
CLASS:PUBLIC
CREATED:20260419T062013
DESCRIPTION:
LAST-MODIFIED:20260419T062013
LOCATION:Sanctuary
SUMMARY:Sunday Worship
URL;VALUE=URI:https://www.thehillumc.org/events/sunday-worship--10/2026-05-
 03
END:VEVENT
END:VCALENDAR
