BEGIN:VCALENDAR
VERSION:2.0
PRODID:icalendar-ruby
CALSCALE:GREGORIAN
METHOD:PUBLISH
BEGIN:VEVENT
DTSTAMP:20260419T133801Z
UID:10-231010@thehillumc.org
DTSTART:20260426T173000Z
DTEND:20260426T173000Z
CLASS:PUBLIC
CREATED:20260419T062013
DESCRIPTION:
LAST-MODIFIED:20260419T062013
LOCATION:Sanctuary
SUMMARY:Sunday Worship
URL;VALUE=URI:https://www.thehillumc.org/events/sunday-worship--10/2026-04-
 26
END:VEVENT
END:VCALENDAR
